BEGIN:VCALENDAR
VERSION:2.0
PRODID:-//Korean School Frankfurt am Main - ECPv6.1.3//NONSGML v1.0//EN
CALSCALE:GREGORIAN
METHOD:PUBLISH
X-WR-CALNAME:Korean School Frankfurt am Main
X-ORIGINAL-URL:https://k-school.de
X-WR-CALDESC:Veranstaltungen für Korean School Frankfurt am Main
REFRESH-INTERVAL;VALUE=DURATION:PT1H
X-Robots-Tag:noindex
X-PUBLISHED-TTL:PT1H
BEGIN:VTIMEZONE
TZID:Europe/Berlin
BEGIN:DAYLIGHT
TZOFFSETFROM:+0100
TZOFFSETTO:+0200
TZNAME:CEST
DTSTART:20260329T010000
END:DAYLIGHT
BEGIN:STANDARD
TZOFFSETFROM:+0200
TZOFFSETTO:+0100
TZNAME:CET
DTSTART:20261025T010000
END:STANDARD
END:VTIMEZONE
BEGIN:VEVENT
DTSTART;TZID=Europe/Berlin:20260226T000000
DTEND;TZID=Europe/Berlin:20260507T000000
DTSTAMP:20260421T022002
CREATED:20260420T140613Z
LAST-MODIFIED:20260420T151229Z
UID:11607-1772064000-1778112000@k-school.de
SUMMARY:2026 외국인 한국어 말하기 대회 안내
DESCRIPTION:2026 외국인 한국어 말하기 대회 (2026 Korean Language Speaking Contest) \n\n\n\n대회 일정 \n\n\n\n\n접수 기간: 2026년 2월 26일 ~ 5월 7일\n\n\n\n수상자 발표: 2026년 5월 26일\n\n\n\n시상식: 2026년 6월 4일 (예정)\n\n\n\n수상자 확인 방법: 코리아타임스 지면 및 홈페이지\,“유튜브 Korean Speaking Agent” \n\n\n\n\n\n\n\n\n지원 자격 \n\n\n\n\n외국인 (여권 기준)\n\n\n\n한국어를 모국어로 하지 않는 재외동포\n\n\n\n\n지원 방법 \n\n\n\n\n영상 제작\n\n\n\nYouTube\, TikTok\, Instagram 등 플랫폼에 업로드\n\n\n\nQR코드를 통해 지원서 제출\n\n\n\n\n기타 안내 \n\n\n\n\n자세한 내용은 첨부된 포스터 또는 QR코드를 통해 확인 바랍니다.\n\n\n\n문의: 코리아타임스\n\n\n\n\n\n\n\n\n\n\n\n\n\n\n\n\n\n\n2026 외국인 한국어 말하기 대회 (2026 Korean Language Speaking Contest) 대회 일정 접수 기간: 2026년 2월 26일 ~ 5월 7일 수상자 발표: 2026년 5월 26일 시상식: 2026년 6월 4일 (예정) 수상자 확인 방법: 코리아타임스 지면 및 홈페이지\, “유튜브 Korean Speaking Agent” 지원 자격 외국인 (여권 기준) 한국어를 모국어로 하지 않는 재외동포\, A. 말하기: 자유 주제…
URL:https://k-school.de/event/2026-%ec%99%b8%ea%b5%ad%ec%9d%b8-%ed%95%9c%ea%b5%ad%ec%96%b4-%eb%a7%90%ed%95%98%ea%b8%b0-%eb%8c%80%ed%9a%8c-%ec%95%88%eb%82%b4/
ATTACH;FMTTYPE=image/png:https://k-school.de/wp-content/uploads/2026/04/Eng_2026KLSC-2-scaled.png
END:VEVENT
BEGIN:VEVENT
DTSTART;TZID=Europe/Berlin:20260410T080000
DTEND;TZID=Europe/Berlin:20260425T170000
DTSTAMP:20260421T022002
CREATED:20260410T043546Z
LAST-MODIFIED:20260410T044930Z
UID:11546-1775808000-1777136400@k-school.de
SUMMARY:학부모 대상 심리 강연
DESCRIPTION:학부모 특강 < 행복으로 가는 청소년 심리 이해 > \n\n\n\n\n\n\n\n2026 재외동포 학부모 학생 평생진로교육 < 행복으로 가는 청소년 심리 이해 > \n\n\n\n강사: 유미숙 교수 (숙명여자대학교 심리치료대학원 / 한국상담심리학회 공인 상담심리전문가) \n\n\n\n일시: 2026년 4월 25일(토)\, 10:00-11:30장소: 프랑크푸르트 한국학교\, Gebeschusstr. 24\, 65929 Frankfurt am Main \n\n\n\n참가대상: 재외동포 학부모 \n\n\n\n모집인원: 선착순 50명 \n\n\n\n(주차자리 제공 X) \n\n\n\n기타 문의:  \n\n\n\nkeid@mofa.or.kr \n\n\n\n+49 (0)69 9567 5231
URL:https://k-school.de/event/%ed%95%99%eb%b6%80%eb%aa%a8-%eb%8c%80%ec%83%81-%ec%8b%ac%eb%a6%ac-%ea%b0%95%ec%97%b0/
ATTACH;FMTTYPE=image/jpeg:https://k-school.de/wp-content/uploads/2026/04/학부모상담.jpg
END:VEVENT
BEGIN:VEVENT
DTSTART;TZID=Europe/Berlin:20260412T000000
DTEND;TZID=Europe/Berlin:20260520T163000
DTSTAMP:20260421T022002
CREATED:20260412T151638Z
LAST-MODIFIED:20260412T153624Z
UID:11552-1775952000-1779294600@k-school.de
SUMMARY:2026년 재외동포 어린이 한국어 그림일기 대회 공모
DESCRIPTION:대회 기간: 2026.03.30(월) ~ 2026.05.20(수) 24:00까지[한국 시간 기준] / \n\n\n\n대회 내용: 재외동포 어린이가 한국어를 배우는 과정에서 겪은 일화\, 느낌을 그림일기로 표현 \n\n\n\n참가 대상: 만 12세 이하*(2026년 12웛 31일 기준) 재외동포 어린이** 중 해외 거주 5년*** 이상인 자(부모(법정대리인) 중 1인이 동행하여 한국 문화체험이 가능한 자) \n\n\n\n* 2013년 1월 1일 이후 출생자 \n\n\n\n** 한국학교 한글학교 재학생 및 그 외 재외동포 어린이 \n\n\n\n*** 참가 학생의 나이가 만 5세 미만인 경우\, 해외 거주 조건 미충족자도 참여 가능 \n\n\n\n\n\n2026년 재외동포 어린이 한국어 그림일기대회 공모 안내Herunterladen\n\n\n\n붙임1. 그림일기 대회 양식Herunterladen\n\n\n\n붙임2. 작품 심사 기준Herunterladen\n\n\n\n붙임3. 참가신청 사용자 매뉴얼Herunterladen
URL:https://k-school.de/event/2026%eb%85%84-%ec%9e%ac%ec%99%b8%eb%8f%99%ed%8f%ac-%ec%96%b4%eb%a6%b0%ec%9d%b4-%ed%95%9c%ea%b5%ad%ec%96%b4-%ea%b7%b8%eb%a6%bc%ec%9d%bc%ea%b8%b0-%eb%8c%80%ed%9a%8c-%ea%b3%b5%eb%aa%a8/
ATTACH;FMTTYPE=image/jpeg:https://k-school.de/wp-content/uploads/2026/04/재외동포어린이-한국어-그림일기대회.jpg
END:VEVENT
END:VCALENDAR